BEGIN:VCALENDAR
VERSION:2.0
PRODID:-//pretix//pretix.comu.de//
BEGIN:VTIMEZONE
TZID:Europe/Berlin
BEGIN:STANDARD
DTSTART:20001029T040000
RRULE:FREQ=YEARLY;BYDAY=-1SU;BYMONTH=10
TZNAME:CET
TZOFFSETFROM:+0200
TZOFFSETTO:+0100
END:STANDARD
BEGIN:DAYLIGHT
DTSTART:20000326T030000
RRULE:FREQ=YEARLY;BYDAY=-1SU;BYMONTH=3
TZNAME:CEST
TZOFFSETFROM:+0100
TZOFFSETTO:+0200
END:DAYLIGHT
END:VTIMEZONE
BEGIN:VEVENT
UID:pretix-ras-2025-0@tickets.nannenbach.de
DTSTART;TZID=Europe/Berlin:20250704T180000
DTEND;TZID=Europe/Berlin:20250704T190000
DESCRIPTION:Tickets: https://tickets.nannenbach.de/2025/\nVeranstalter: Roc
 k am Schilf
DTSTAMP:20260422T125701Z
SUMMARY:Rock am Schilf 2025
END:VEVENT
END:VCALENDAR
